 BEGIN:VCALENDAR
VERSION:2.0
PRODID:-//eventon.com NONSGML v1.0//EN
CALSCALE:GREGORIAN
METHOD:PUBLISH
BEGIN:VEVENT
UID:69e9dd868725f
DTSTAMP:20260423T085118Z
DTSTART:20201113T110000Z
DTEND:20201114T143000Z
LOCATION:Unfallkrankenhaus Berlin Kesselhaus Marzahn Hellersdorf\,  Brebacher Weg 15
SUMMARY:7. Peer-Fortbildung 2020
DESCRIPTION:7. Peer-Fortbildung 2020\nhttps://www.bmab.de/events/peer-fortb
 ildung-2020/
URL:https://www.bmab.de/events/peer-fortbildung-2020/
END:VEVENT
END:VCALENDAR