 BEGIN:VCALENDAR
VERSION:2.0
PRODID:-//eventon.com NONSGML v1.0//EN
CALSCALE:GREGORIAN
METHOD:PUBLISH
BEGIN:VEVENT
UID:69e8089e8a59e
DTSTAMP:20260421T233038Z
DTSTART:20160408T180000Z
DTEND:20160408T200000Z
LOCATION:Tanzgemeinschaft Saphir Chemnitz e.V. Hainstraße 139 09130 Chemnitz
SUMMARY:Tanz für Prothesenträger am 08. April 2016
DESCRIPTION:&#8220;Let´s dance&#8221; Tanzen will gelernt sein – auch na
 ch einer Amputation. Tanzen dient der Pflege von zwischenmenschlichen Konta
 kten\,  fördert die Gesundheit und verbessert die Selbst- und Fremdwahrneh
 mung. Sich gemeinsam bei schöner Musik bewegen\,  den Rhythmus spüren und
  ihm folgen – das ist Lebensfreude pur. Egal ob Anfänger oder schon etwa
 s[..]\nhttps://www.bmab.de/events/tanz-fuer-prothesentraeger-am-08-april-20
 16/
URL:https://www.bmab.de/events/tanz-fuer-prothesentraeger-am-08-april-2016/
END:VEVENT
END:VCALENDAR