 BEGIN:VCALENDAR
VERSION:2.0
PRODID:-//eventon.com NONSGML v1.0//EN
CALSCALE:GREGORIAN
METHOD:PUBLISH
BEGIN:VEVENT
UID:69e886ed2823f
DTSTAMP:20260422T082933Z
DTSTART:20130914
DTEND:20130915
LOCATION:
SUMMARY:Schnuppertour mit Kajak\,  Ruderboot oder Stand Up Paddeln (Heidelberg)
DESCRIPTION:2013_09_14_Schnuppertour\nhttps://www.bmab.de/events/schnuppert
 our-mit-kajak-ruderboot-oder-stand-up-paddeln-heidelberg/
URL:https://www.bmab.de/events/schnuppertour-mit-kajak-ruderboot-oder-stand-up-paddeln-heidelberg/
END:VEVENT
END:VCALENDAR