 BEGIN:VCALENDAR
VERSION:2.0
PRODID:-//eventon.com NONSGML v1.0//EN
CALSCALE:GREGORIAN
METHOD:PUBLISH
BEGIN:VEVENT
UID:69eb76672e8f5
DTSTAMP:20260424T135551Z
DTSTART:20130501
DTEND:20130502
LOCATION:
SUMMARY:Sport mit Prothese
DESCRIPTION:2013_05_APT\nhttps://www.bmab.de/events/sport-mit-prothese/
URL:https://www.bmab.de/events/sport-mit-prothese/
END:VEVENT
END:VCALENDAR